BEGIN:VCALENDAR
VERSION:2.0
PRODID:-//Hanako Channel - ECPv6.15.12.2//NONSGML v1.0//EN
CALSCALE:GREGORIAN
METHOD:PUBLISH
X-WR-CALNAME:Hanako Channel
X-ORIGINAL-URL:https://fhf.org
X-WR-CALDESC:Events for Hanako Channel
REFRESH-INTERVAL;VALUE=DURATION:PT1H
X-Robots-Tag:noindex
X-PUBLISHED-TTL:PT1H
BEGIN:VTIMEZONE
TZID:America/Los_Angeles
BEGIN:DAYLIGHT
TZOFFSETFROM:-0800
TZOFFSETTO:-0700
TZNAME:PDT
DTSTART:20230312T100000
END:DAYLIGHT
BEGIN:STANDARD
TZOFFSETFROM:-0700
TZOFFSETTO:-0800
TZNAME:PST
DTSTART:20231105T090000
END:STANDARD
BEGIN:DAYLIGHT
TZOFFSETFROM:-0800
TZOFFSETTO:-0700
TZNAME:PDT
DTSTART:20240310T100000
END:DAYLIGHT
BEGIN:STANDARD
TZOFFSETFROM:-0700
TZOFFSETTO:-0800
TZNAME:PST
DTSTART:20241103T090000
END:STANDARD
BEGIN:DAYLIGHT
TZOFFSETFROM:-0800
TZOFFSETTO:-0700
TZNAME:PDT
DTSTART:20250309T100000
END:DAYLIGHT
BEGIN:STANDARD
TZOFFSETFROM:-0700
TZOFFSETTO:-0800
TZNAME:PST
DTSTART:20251102T090000
END:STANDARD
END:VTIMEZONE
BEGIN:VEVENT
DTSTART;TZID=America/Los_Angeles:20240908T130000
DTEND;TZID=America/Los_Angeles:20240908T180000
DTSTAMP:20260423T133448
CREATED:20240714T193644Z
LAST-MODIFIED:20240718T205707Z
UID:308-1725800400-1725818400@fhf.org
SUMMARY:ADSC Gatsby Picnic
DESCRIPTION:I’m going to the Gatsby! \nI made my dress earlier this year\, and I’m so excited to wear it!
URL:https://fhf.org/event/adsc-gatsby-picnic/
CATEGORIES:Big Events
END:VEVENT
BEGIN:VEVENT
DTSTART;TZID=America/Los_Angeles:20240731T080000
DTEND;TZID=America/Los_Angeles:20240827T170000
DTSTAMP:20260423T133448
CREATED:20240709T185342Z
LAST-MODIFIED:20240730T230504Z
UID:102-1722412800-1724778000@fhf.org
SUMMARY:HanakoTour Summer 2024
DESCRIPTION:On my way to Canada to visit Friends\, Family\, and spend over a week camping in Banff! \n\n\n\nDate\nWD\nWhere / What\n\n\n\n\nJuly 31\n\nLeave home. Long drive.\n\n\nAugust 2\nFri\nArrive in Calgary. Stay with Shauna.\n\n\nAugust 4\nSun\nDance in Calgary?\n\n\nAugust 6\nTue\nCamping in Banff! Two Jack Lake\, Site 10E.\n\n\nAugust 16\nFri\nVernon. Stay with Tom.\n\n\nAugust 18\nSun\nKelowna. Stay with Diane.\n\n\nAugust 24\nSat\nDance in Kelowna? (unconfirmed event)\n\n\nAugust 25\nSun\nDance in Seattle or Portland?\n\n\nAugust 26\nMon\n(Tentative) Come home. Long drive.
URL:https://fhf.org/event/hanakotour-summer-2024/
CATEGORIES:HanakoTour
END:VEVENT
BEGIN:VEVENT
DTSTART;TZID=America/Los_Angeles:20240719T190000
DTEND;TZID=America/Los_Angeles:20240721T170000
DTSTAMP:20260423T133448
CREATED:20240709T185725Z
LAST-MODIFIED:20240718T205600Z
UID:104-1721415600-1721581200@fhf.org
SUMMARY:Midsummer Mashup Workshop
DESCRIPTION:
URL:https://fhf.org/event/midsummer-mashup-workshop/
LOCATION:Midtown Stomp\, Sacramento\, CA\, United States
CATEGORIES:Dance Camps
END:VEVENT
END:VCALENDAR