BEGIN:VCALENDAR
VERSION:2.0
PRODID:-//Hanako Channel - ECPv6.15.12.2//NONSGML v1.0//EN
CALSCALE:GREGORIAN
METHOD:PUBLISH
X-ORIGINAL-URL:https://fhf.org
X-WR-CALDESC:Events for Hanako Channel
REFRESH-INTERVAL;VALUE=DURATION:PT1H
X-Robots-Tag:noindex
X-PUBLISHED-TTL:PT1H
BEGIN:VTIMEZONE
TZID:America/Los_Angeles
BEGIN:DAYLIGHT
TZOFFSETFROM:-0800
TZOFFSETTO:-0700
TZNAME:PDT
DTSTART:20230312T100000
END:DAYLIGHT
BEGIN:STANDARD
TZOFFSETFROM:-0700
TZOFFSETTO:-0800
TZNAME:PST
DTSTART:20231105T090000
END:STANDARD
BEGIN:DAYLIGHT
TZOFFSETFROM:-0800
TZOFFSETTO:-0700
TZNAME:PDT
DTSTART:20240310T100000
END:DAYLIGHT
BEGIN:STANDARD
TZOFFSETFROM:-0700
TZOFFSETTO:-0800
TZNAME:PST
DTSTART:20241103T090000
END:STANDARD
BEGIN:DAYLIGHT
TZOFFSETFROM:-0800
TZOFFSETTO:-0700
TZNAME:PDT
DTSTART:20250309T100000
END:DAYLIGHT
BEGIN:STANDARD
TZOFFSETFROM:-0700
TZOFFSETTO:-0800
TZNAME:PST
DTSTART:20251102T090000
END:STANDARD
END:VTIMEZONE
BEGIN:VEVENT
DTSTART;TZID=America/Los_Angeles:20241101T080000
DTEND;TZID=America/Los_Angeles:20241120T170000
DTSTAMP:20260423T121613
CREATED:20240709T184932Z
LAST-MODIFIED:20241023T180311Z
UID:100-1730448000-1732122000@fhf.org
SUMMARY:FFS in San Francisco
DESCRIPTION:Hanako’s Facial Feminization Surgery trip to San Francisco. \nMain Schedule\n\n\n\nDay\nDOW\nWhat\n\n\n\n\nNov 1\nF\n1050 Hanako flies to SF UA5452\n\n\nNov 2\nS\n1730 Tina arrives in SF AC271 AC3071\n\n\nNov 3\nU\nBrunch at Anzu\n\n\nNov 4\nM\n1400 Pre-Op Appointment\n\n\nNov 7\nR\n0530 Surgery Day!\n\n\nNov 8\nF\n0715 Hanako discharged from hospital\n\n\nNov 9\nS\n2130 Shauna arrives in SF AC221 AC5696\n\n\nNov 12\nT\n1100 Post-Op Appointment #1\n\n\nNov 12\nT\n1530 Tina flies home AC5111 AC8284\n\n\nNov 14\nR\n1445 Post-Op Appointment #2\n\n\nNov 16\nS\n1310 Shauna flies home AC567 AC222\n\n\nNov 20\nW\n1120 Hanako flies home UA5619\n\n\n\nPrep Tasks\n4 Weeks Prior (Oct 10)\n\nGet lab tests done @ Quest (CBC\, CMP\, PT/PTT INR)\nStop all hair removal procedures\nDental cleaning scheduled Oct 7\nSurgical Clearance & EKG scheduled Oct 23\n\n2 Weeks Prior (Oct 24)\n\nStop all vitamins\, supplements\, fish oil\nStart 2 g/day vitamin C\nStop drinking alcohol\nStart low carb (< 200 g/day\, LOL so easy) and low sodium (< 1.5 g/day) diet\nStop eating garlic\, ginger\, and maitake or reishi mushrooms\nCall Hotel & clear having items shipped to them\nOrder from Amazon: 45° Sleeping wedge (s.t. like this) and Humidifier\n\n1 Week Prior (Oct 31)\n\nStop using any skin creams that cause flaking or peeling (i.e. Retin-A)\nStart taking probiotics (already take)\n\nNight Before Surgery (Nov 6)\n\nDo not eat or dink anything after midnight\nShower\nWash hair with Dandruff shampoo\nTrim nasal hair\n\nMorning of Surgery (Nov 7)\n\nDO NOT SHAVE\nWash face. Do not apply makeup.\nRemove all nail polish\nDo not wear earrings\nTake prescription meds with a small sip of water. Take evening lipitor also!\nDress comfortably. Button-up or Zip-front top. Nothing I need to pull over my head!\nTake ID and Insurance and Visa Card\n\nAfter Surgery (Nov 8)\n\nExpect 2-3 days of numbness\, tingling\, swelling\, discolouration\, irregularities\, firmness\, crusting\, some bleeding\, redness\, and mild pain. This is the worst time as my face will swell up!\nExpect grogginess for first few days after surgery\nExpect pain with eating or facial expression\, drooling\, and difficulty closing lips (my\, how attractive I will be!)\nStart semi-liquid diet for 2 weeks. Nothing that requires chewing. Protein & Meal replacement shakes\, mashed potatoes\, broth or stock\, milk\, yoghurt\nEnsure stay hydrated as well\nWalk at least 2 hours daily\nRest and sleep with head & shoulders elevated 45° (semi-Fowler position)\n\nDo’s And Don’ts\n\nYou waited so long for the surgery\, now get ready to wait patiently for the results and recovery!\nExpect crappy sleep the first week\, between nose being plugged\, lips swelling\, and having to sleep on my back sitting up!\nNo Alcohol before November 22\nResume normal skin care routines on November 21\, except NO EXFOLIANTS\nEnd liquid diet on November 22\nNo heavy lifting or bending over before November 28\nDo not blow my nose until November 29 (Toshi’s Birthday!)\nExpect to no longer resemble a DV victim around December 5\nCan resume body laser hair removal after December 6\nCan use exfoliants and hair treatments after December 20\nNo strenuous activity before December 21. (lucky me: one week before Stormy Weather)\nCan start laser and electrolysis on face after February 25\, 2025\nNo procedures requiring general anesthesia before April 2025\nCheer Up!!! Don’t expect the results to settle until April or May 2025!!\nDo not expose incisions/scars to the sun before May 2025. Sunscreen and Hats!\n\nLong Term Recovery\nPhase 1: Nov 8 – 22\nSlight oozing and crusting. Mild bruiising and sensitivity that resolves in 7-10 days. Swelling and numbness are moderate\, peaking in 3 days or so. \nPhase 2: Nov 23 – Jan 3\nFormation of early aqdhering (“disorganized”) collagen tissue\, pink to light red in colour. Itchiness and tenderness and some thinkinging of the incision line. Swelling resolves 60-80% by the end of this phase. Rare bruising or discolouration may persist. \nPhase 3: Jan/2025 – July/2025\nFormation of mature and strongly supportive (“oragnized”) collagen tissue. Scars lose their redness\, itchiness\, and tenderness. Incisions flatten and red colour starts to fade. Swelling resolves 80-90% during this phase. \nDeeper sutures which add strength to the incision closures will be absorbed. This may cause firmness\, lumpiness\, or even sutures coming to surface. Normal and should resolve. \nPhase 4: July/2025 – Dec/2026\nTissues and scars become softer\, looser\, smoother\, and flesh coloured. Should see most of your final results. Should be little swelling or numbness.
URL:https://fhf.org/event/ffs-in-san-francisco/
CATEGORIES:Life Events
END:VEVENT
END:VCALENDAR