BEGIN:VCALENDAR
VERSION:2.0
PRODID:-//Hanako Channel - ECPv6.15.12.2//NONSGML v1.0//EN
CALSCALE:GREGORIAN
METHOD:PUBLISH
X-WR-CALNAME:Hanako Channel
X-ORIGINAL-URL:https://fhf.org
X-WR-CALDESC:Events for Hanako Channel
REFRESH-INTERVAL;VALUE=DURATION:PT1H
X-Robots-Tag:noindex
X-PUBLISHED-TTL:PT1H
BEGIN:VTIMEZONE
TZID:America/Los_Angeles
BEGIN:DAYLIGHT
TZOFFSETFROM:-0800
TZOFFSETTO:-0700
TZNAME:PDT
DTSTART:20240310T100000
END:DAYLIGHT
BEGIN:STANDARD
TZOFFSETFROM:-0700
TZOFFSETTO:-0800
TZNAME:PST
DTSTART:20241103T090000
END:STANDARD
BEGIN:DAYLIGHT
TZOFFSETFROM:-0800
TZOFFSETTO:-0700
TZNAME:PDT
DTSTART:20250309T100000
END:DAYLIGHT
BEGIN:STANDARD
TZOFFSETFROM:-0700
TZOFFSETTO:-0800
TZNAME:PST
DTSTART:20251102T090000
END:STANDARD
BEGIN:DAYLIGHT
TZOFFSETFROM:-0800
TZOFFSETTO:-0700
TZNAME:PDT
DTSTART:20260308T100000
END:DAYLIGHT
BEGIN:STANDARD
TZOFFSETFROM:-0700
TZOFFSETTO:-0800
TZNAME:PST
DTSTART:20261101T090000
END:STANDARD
END:VTIMEZONE
BEGIN:VEVENT
DTSTART;TZID=America/Los_Angeles:20251224T080000
DTEND;TZID=America/Los_Angeles:20251226T170000
DTSTAMP:20260423T163159
CREATED:20250807T121119Z
LAST-MODIFIED:20250807T121207Z
UID:619-1766563200-1766768400@fhf.org
SUMMARY:Christmas in Asheville\, NC
DESCRIPTION:How far will I go to escape turkey?
URL:https://fhf.org/event/dc-ny-trip/
CATEGORIES:HanakoTour,Travel
END:VEVENT
BEGIN:VEVENT
DTSTART;TZID=America/Los_Angeles:20251216T080000
DTEND;TZID=America/Los_Angeles:20251224T170000
DTSTAMP:20260423T163159
CREATED:20250807T121438Z
LAST-MODIFIED:20250807T121438Z
UID:624-1765872000-1766595600@fhf.org
SUMMARY:Visiting DC / NY
DESCRIPTION:How far will I go to avoid turkey?
URL:https://fhf.org/event/visiting-dc-ny/
CATEGORIES:Travel
END:VEVENT
BEGIN:VEVENT
DTSTART;VALUE=DATE:20251023
DTEND;VALUE=DATE:20251028
DTSTAMP:20260423T163159
CREATED:20250929T202057Z
LAST-MODIFIED:20250929T202057Z
UID:694-1761177600-1761609599@fhf.org
SUMMARY:Calgary Trip
DESCRIPTION:
URL:https://fhf.org/event/calgary-trip/
CATEGORIES:Travel
END:VEVENT
BEGIN:VEVENT
DTSTART;VALUE=DATE:20251002
DTEND;VALUE=DATE:20251006
DTSTAMP:20260423T163159
CREATED:20250916T221924Z
LAST-MODIFIED:20250916T221933Z
UID:691-1759363200-1759708799@fhf.org
SUMMARY:Redwood Coast Music Festival
DESCRIPTION:Hanging out in Eureka\, CA
URL:https://fhf.org/event/redwood-coast-music-festival/
CATEGORIES:Dances,Travel
END:VEVENT
BEGIN:VEVENT
DTSTART;TZID=America/Los_Angeles:20250902T080000
DTEND;TZID=America/Los_Angeles:20250918T170000
DTSTAMP:20260423T163159
CREATED:20250807T121556Z
LAST-MODIFIED:20250807T121556Z
UID:626-1756800000-1758214800@fhf.org
SUMMARY:Visiting Canada
DESCRIPTION:
URL:https://fhf.org/event/visiting-canada/
CATEGORIES:Travel
END:VEVENT
END:VCALENDAR