BEGIN:VCALENDAR
VERSION:2.0
PRODID:-//Hanako Channel - ECPv6.15.12.2//NONSGML v1.0//EN
CALSCALE:GREGORIAN
METHOD:PUBLISH
X-WR-CALNAME:Hanako Channel
X-ORIGINAL-URL:https://fhf.org
X-WR-CALDESC:Events for Hanako Channel
REFRESH-INTERVAL;VALUE=DURATION:PT1H
X-Robots-Tag:noindex
X-PUBLISHED-TTL:PT1H
BEGIN:VTIMEZONE
TZID:America/Los_Angeles
BEGIN:DAYLIGHT
TZOFFSETFROM:-0800
TZOFFSETTO:-0700
TZNAME:PDT
DTSTART:20230312T100000
END:DAYLIGHT
BEGIN:STANDARD
TZOFFSETFROM:-0700
TZOFFSETTO:-0800
TZNAME:PST
DTSTART:20231105T090000
END:STANDARD
BEGIN:DAYLIGHT
TZOFFSETFROM:-0800
TZOFFSETTO:-0700
TZNAME:PDT
DTSTART:20240310T100000
END:DAYLIGHT
BEGIN:STANDARD
TZOFFSETFROM:-0700
TZOFFSETTO:-0800
TZNAME:PST
DTSTART:20241103T090000
END:STANDARD
BEGIN:DAYLIGHT
TZOFFSETFROM:-0800
TZOFFSETTO:-0700
TZNAME:PDT
DTSTART:20250309T100000
END:DAYLIGHT
BEGIN:STANDARD
TZOFFSETFROM:-0700
TZOFFSETTO:-0800
TZNAME:PST
DTSTART:20251102T090000
END:STANDARD
BEGIN:DAYLIGHT
TZOFFSETFROM:-0800
TZOFFSETTO:-0700
TZNAME:PDT
DTSTART:20260308T100000
END:DAYLIGHT
BEGIN:STANDARD
TZOFFSETFROM:-0700
TZOFFSETTO:-0800
TZNAME:PST
DTSTART:20261101T090000
END:STANDARD
BEGIN:DAYLIGHT
TZOFFSETFROM:-0800
TZOFFSETTO:-0700
TZNAME:PDT
DTSTART:20270314T100000
END:DAYLIGHT
BEGIN:STANDARD
TZOFFSETFROM:-0700
TZOFFSETTO:-0800
TZNAME:PST
DTSTART:20271107T090000
END:STANDARD
END:VTIMEZONE
BEGIN:VEVENT
DTSTART;TZID=America/Los_Angeles:20251226T080000
DTEND;TZID=America/Los_Angeles:20260101T170000
DTSTAMP:20260423T135032
CREATED:20250807T121339Z
LAST-MODIFIED:20250807T121339Z
UID:622-1766736000-1767286800@fhf.org
SUMMARY:Lindy Focus & NYE Dance
DESCRIPTION:
URL:https://fhf.org/event/lindy-focus-nye-dance/
CATEGORIES:Dance Camps
END:VEVENT
BEGIN:VEVENT
DTSTART;TZID=America/Los_Angeles:20251224T080000
DTEND;TZID=America/Los_Angeles:20251226T170000
DTSTAMP:20260423T135032
CREATED:20250807T121119Z
LAST-MODIFIED:20250807T121207Z
UID:619-1766563200-1766768400@fhf.org
SUMMARY:Christmas in Asheville\, NC
DESCRIPTION:How far will I go to escape turkey?
URL:https://fhf.org/event/dc-ny-trip/
CATEGORIES:HanakoTour,Travel
END:VEVENT
BEGIN:VEVENT
DTSTART;TZID=America/Los_Angeles:20251216T080000
DTEND;TZID=America/Los_Angeles:20251224T170000
DTSTAMP:20260423T135032
CREATED:20250807T121438Z
LAST-MODIFIED:20250807T121438Z
UID:624-1765872000-1766595600@fhf.org
SUMMARY:Visiting DC / NY
DESCRIPTION:How far will I go to avoid turkey?
URL:https://fhf.org/event/visiting-dc-ny/
CATEGORIES:Travel
END:VEVENT
BEGIN:VEVENT
DTSTART;VALUE=DATE:20251023
DTEND;VALUE=DATE:20251028
DTSTAMP:20260423T135032
CREATED:20250929T202057Z
LAST-MODIFIED:20250929T202057Z
UID:694-1761177600-1761609599@fhf.org
SUMMARY:Calgary Trip
DESCRIPTION:
URL:https://fhf.org/event/calgary-trip/
CATEGORIES:Travel
END:VEVENT
BEGIN:VEVENT
DTSTART;VALUE=DATE:20251017
DTEND;VALUE=DATE:20251020
DTSTAMP:20260423T135032
CREATED:20250715T194359Z
LAST-MODIFIED:20250715T194359Z
UID:574-1760659200-1760918399@fhf.org
SUMMARY:Track Town Throwdown
DESCRIPTION:Weekend dance exchange and festival in Eugene\, OR
URL:https://fhf.org/event/track-town-throwdown-2/
CATEGORIES:Dance Camps
END:VEVENT
BEGIN:VEVENT
DTSTART;VALUE=DATE:20251002
DTEND;VALUE=DATE:20251006
DTSTAMP:20260423T135032
CREATED:20250916T221924Z
LAST-MODIFIED:20250916T221933Z
UID:691-1759363200-1759708799@fhf.org
SUMMARY:Redwood Coast Music Festival
DESCRIPTION:Hanging out in Eureka\, CA
URL:https://fhf.org/event/redwood-coast-music-festival/
CATEGORIES:Dances,Travel
END:VEVENT
BEGIN:VEVENT
DTSTART;TZID=America/Los_Angeles:20250902T080000
DTEND;TZID=America/Los_Angeles:20250918T170000
DTSTAMP:20260423T135032
CREATED:20250807T121556Z
LAST-MODIFIED:20250807T121556Z
UID:626-1756800000-1758214800@fhf.org
SUMMARY:Visiting Canada
DESCRIPTION:
URL:https://fhf.org/event/visiting-canada/
CATEGORIES:Travel
END:VEVENT
BEGIN:VEVENT
DTSTART;VALUE=DATE:20250828
DTEND;VALUE=DATE:20250902
DTSTAMP:20260423T135032
CREATED:20241211T203341Z
LAST-MODIFIED:20241211T203351Z
UID:448-1756339200-1756771199@fhf.org
SUMMARY:Camp Hollywood
DESCRIPTION:
URL:https://fhf.org/event/camp-hollywood/
CATEGORIES:Dance Camps
END:VEVENT
BEGIN:VEVENT
DTSTART;TZID=America/Los_Angeles:20250725T180000
DTEND;TZID=America/Los_Angeles:20250727T233000
DTSTAMP:20260423T135032
CREATED:20250202T070543Z
LAST-MODIFIED:20250202T072732Z
UID:488-1753466400-1753659000@fhf.org
SUMMARY:NorthWest Balboa Fest
DESCRIPTION:Time to finally learn Balboa at the NorthWestBalboaFest!
URL:https://fhf.org/event/2025-nwbf/
CATEGORIES:Dance Camps,Lindy Hop
END:VEVENT
BEGIN:VEVENT
DTSTART;TZID=America/Los_Angeles:20250616T200000
DTEND;TZID=America/Los_Angeles:20250629T130000
DTSTAMP:20260423T135032
CREATED:20250312T201528Z
LAST-MODIFIED:20250312T201528Z
UID:523-1750104000-1751202000@fhf.org
SUMMARY:Chicago HanakoTour
DESCRIPTION:
URL:https://fhf.org/event/chicago-hanakotour25/
CATEGORIES:Dances,Shoemaking Workshops
END:VEVENT
BEGIN:VEVENT
DTSTART;TZID=America/Los_Angeles:20250523T160000
DTEND;TZID=America/Los_Angeles:20250526T100000
DTSTAMP:20260423T135032
CREATED:20241220T043905Z
LAST-MODIFIED:20241220T043905Z
UID:453-1748016000-1748253600@fhf.org
SUMMARY:Camp Jitterbug Seattle
DESCRIPTION:Hotel: BOOKED Silver Cloud\nTickets: January 4
URL:https://fhf.org/event/camp-jitterbug-seattle/
CATEGORIES:Dance Camps
END:VEVENT
BEGIN:VEVENT
DTSTART;TZID=America/Los_Angeles:20250410T180000
DTEND;TZID=America/Los_Angeles:20250413T170000
DTSTAMP:20260423T135032
CREATED:20241220T043730Z
LAST-MODIFIED:20241220T043730Z
UID:451-1744308000-1744563600@fhf.org
SUMMARY:Portland Lindy Exchange
DESCRIPTION:Hotel: BOOKED Hilton Doubletree\nTickets: Dec 21
URL:https://fhf.org/event/portland-lindy-exchange/
CATEGORIES:Dance Camps
END:VEVENT
BEGIN:VEVENT
DTSTART;TZID=America/Los_Angeles:20241228T160000
DTEND;TZID=America/Los_Angeles:20250101T010000
DTSTAMP:20260423T135032
CREATED:20240709T184552Z
LAST-MODIFIED:20241220T044553Z
UID:97-1735401600-1735693200@fhf.org
SUMMARY:Stormy Weather Dance Festival
DESCRIPTION:I went to this last year\, and am excited to go again this year! \nTickets: PURCHASED July 9\nHotel: Hilton Seattle Airport
URL:https://fhf.org/event/stormy-weather-jazz-dance-festival-2024/
CATEGORIES:Dance Camps,Fun,Lindy Hop
END:VEVENT
BEGIN:VEVENT
DTSTART;TZID=America/Los_Angeles:20241017T183000
DTEND;TZID=America/Los_Angeles:20241022T090000
DTSTAMP:20260423T135032
CREATED:20241008T224807Z
LAST-MODIFIED:20241008T224807Z
UID:424-1729189800-1729587600@fhf.org
SUMMARY:Portland Trip
DESCRIPTION:Taking a sewing workshop in Vancouver\, WA\, at Sew+Op+Maker+Place\nDancing in Portand\, OR! Thursday\, Sunday\, and Monday!
URL:https://fhf.org/event/portland-trip/
CATEGORIES:Dances,Sewing Workshops
END:VEVENT
BEGIN:VEVENT
DTSTART;TZID=America/Los_Angeles:20241011T190000
DTEND;TZID=America/Los_Angeles:20241013T190000
DTSTAMP:20260423T135032
CREATED:20240729T022239Z
LAST-MODIFIED:20240729T022239Z
UID:377-1728673200-1728846000@fhf.org
SUMMARY:Track Town Throwdown
DESCRIPTION:
URL:https://fhf.org/event/track-town-throwdown/
CATEGORIES:Dance Camps
END:VEVENT
BEGIN:VEVENT
DTSTART;TZID=America/Los_Angeles:20240908T130000
DTEND;TZID=America/Los_Angeles:20240908T180000
DTSTAMP:20260423T135032
CREATED:20240714T193644Z
LAST-MODIFIED:20240718T205707Z
UID:308-1725800400-1725818400@fhf.org
SUMMARY:ADSC Gatsby Picnic
DESCRIPTION:I’m going to the Gatsby! \nI made my dress earlier this year\, and I’m so excited to wear it!
URL:https://fhf.org/event/adsc-gatsby-picnic/
CATEGORIES:Big Events
END:VEVENT
BEGIN:VEVENT
DTSTART;TZID=America/Los_Angeles:20240719T190000
DTEND;TZID=America/Los_Angeles:20240721T170000
DTSTAMP:20260423T135032
CREATED:20240709T185725Z
LAST-MODIFIED:20240718T205600Z
UID:104-1721415600-1721581200@fhf.org
SUMMARY:Midsummer Mashup Workshop
DESCRIPTION:
URL:https://fhf.org/event/midsummer-mashup-workshop/
LOCATION:Midtown Stomp\, Sacramento\, CA\, United States
CATEGORIES:Dance Camps
END:VEVENT
END:VCALENDAR